Workbook

Sheet ĐÁNH GIÁ GV_mau_01
A1: TRƯỜNG CAO ĐẲNG LÝ TỰ TRỌNG TP. HỒ CHÍ MINH | G1: CỘNG HÒA XÃ HỘI CHỦ NGHĨA VIỆT NAM
A2: KHOA KHOA HỌC CƠ BẢN | G2: Độc lập - Tự do - Hạnh phúc
A5: PHIẾU ĐÁNH GIÁ, XẾP LOẠI CHUYÊN MÔN, NGHIỆP VỤ CỦA NHÀ GIÁO
A6: Năm học: 2017-2018
A7: Họ và tên: | D7: LÊ THÁI HÙNG
A8: Khoa, tổ bộ môn: | D8: Khoa Khoa học Cơ bản, Tổ Giáo dục Thể chất
A9: Cấp trình độ giảng dạy: | D9: Cao đẳng
A10: Nhiệm vụ được phân công giảng dạy (Lý thuyết, thực hành, tích hợp): | G10: Thực hành
A12: Các tiêu chí và tiêu chuẩn | B12: Điểm tối đa | C12: Điểm tối đa | D12: Nhà giáo tự đánh giá xếp loại | G12: Khoa đánh giá, xếp loại
D13: Điểm đánh giá đạt được | E13: Tỷ lệ % của điểm đánh giá đạt được so với điểm đánh giá tối đa của mỗi tiêu chuẩn | F13: Các minh chứng | G13: Điểm đánh giá đạt được | H13: Tỷ lệ % của điểm đánh giá đạt được so với điểm đánh giá tối đa của mỗi tiêu chuẩn | I13: Các minh chứng
A14: Tiêu chí 1 về Năng lực chuyên môn | B14: =SUM(B15,B22,B25) -> 20 | C14: =SUM(C15,C22,C25) -> 20 | D14: =SUM(D15,D22,D25) -> 16 | E14: =(D14/B14) -> 0.8 | F14: =IF(E14>=0.5,"Đạt","Không đạt") -> Đạt | G14: =SUM(G15,G22,G25) -> 12 | H14: =(G14/B14) -> 0.6 | I14: =IF(H14>=0.5,"Đạt","Không đạt") -> Đạt
A15: - Tiêu chuẩn 1: Trình độ chuyên môn | B15: =SUM(B16:B21) -> 12 | C15: =SUM(C16:C21) -> 12 | D15: =SUM(D16:D21) -> 12 | E15: =(D15/B15) -> 1 | F15: =IF(E15>=0.5,"Đạt"," Không đạt") -> Đạt | G15: =SUM(G16:G21) -> 10 | H15: =(G15/B15) -> 0.83333333 | I15: =IF(H15>=0.5,"Đạt","Không đạt") -> Đạt
A16: + Có bằng tốt nghiệp đại học chuyên ngành hoặc đại học sư phạm chuyên ngành trở lên, phù hợp với ngành, nghề giảng dạy và có một trong các chứng chỉ kỹ năng nghề phù hợp với ngành, nghề giảng dạy để dạy thực hành trình độ cao đẳng sau: Chứng chỉ kỹ năng nghề quốc gia Bậc 3 hoặc chứng nhận bậc thợ 5/7, 4/6 trở lên hoặc bằng tốt nghiệp cao đẳng nghề hoặc chứng chỉ kỹ năng thực hành nghề trình độ cao đẳng nghề hoặc tương đương; | B16: 2 | C16: 2 | D16: 2 | E16: 1 | F16: Bằng Đại học chuyên ngành Sư phạm Giáo dục thể chất | G16: 2 | H16: 1 | I16: =F16 -> Bằng Đại học chuyên ngành Sư phạm Giáo dục thể chất
A17: + Nắm vững kiến thức ngành, nghề được phân công giảng dạy; | B17: 2 | C17: 2 | D17: 2 | E17: 1 | G17: 2 | H17: 1
A18: + Có kiến thức về ngành, nghề liên quan; | B18: 2 | C18: 2 | D18: 2 | E18: 1 | G18: 2 | H18: 1
A19: + Hiểu biết về thực tiễn nghề nghiệp, tiến bộ khoa học kỹ thuật, công nghệ mới và kỹ thuật an toàn, vệ sinh lao động của ngành, nghề được phân công giảng dạy | B19: 2 | C19: 2 | D19: 2 | E19: 1 | G19: 2 | H19: 1
A20: + Thực hiện thành thạo các kỹ năng của ngành, nghề được phân công giảng dạy | B20: 2 | C20: 2 | D20: 2 | E20: 1 | G20: 2 | H20: 1
A21: + Tổ chức thành thạo các hoạt động lao động sản xuất, dịch vụ ngành, nghề được phân công giảng dạy | B21: 2 | C21: 2 | D21: 2 | E21: 1 | G21: 0 | H21: 0
A22: - Tiêu chuẩn 2: Trình độ ngoại ngữ | B22: =SUM(B23:B24) -> 4 | C22: =SUM(C23:C24) -> 4 | D22: 2 | E22: 0.5 | F22: Đạt | G22: 0 | H22: 0 | I22: Không đạt
A23: + Đối vối giáo viên, giảng viên không chuyên ngành ngoại ngữ: Có trình độ ngoại ngữ Bậc 2 (A2) theo quy định tại Thông tư số 01/2014/TT-BGDĐT ngày 24/01/2014 của Bộ Giáo dục và Đào tạo ban hành Khung năng lực ngoại ngữ 6 bậc dùng cho Việt Nam hoặc tương đương trở lên. + Đối với giáo viên, giảng viên chuyên ngành ngoại ngữ (giáo viên, giảng viên tổ Anh văn thuộc Khoa KHCB): Có trình độ ngoại ngữ Bậc 5 (C1) theo quy định tại Thông tư số 01/2014/TT-BGDĐT ngày 24/01/2014 của Bộ Giáo dục và Đào tạo ban hành Khung năng lực ngoại ngữ 6 bậc dùng cho Việt Nam hoặc tương đương trở lên. Và trình độ ngoại ngữ thứ hai phải đạt Bậc 2 (A2) theo quy định tại Thông tư số 01/2014/TT-BGDĐT. | B23: 2 | C23: 2 | D23: 2 | E23: 1 | F23: Chứng chỉ tiếng Anh tương đương cấp độ B1 khung Châu Âu Trường Đại học Thể dục thể thao TP. HCM | G23: 0 | H23: 0 | I23: =F23 -> Chứng chỉ tiếng Anh tương đương cấp độ B1 khung Châu Âu Trường Đại học Thể dục thể thao TP. HCM
A24: + Đọc và hiểu tài liệu chuyên ngành phục vụ công tác giảng dạy; mô tả được một số công việc cơ bản của ngành, nghề được phân công giảng dạy. | B24: 2 | C24: 2 | D24: 0 | E24: 0 | G24: 0 | H24: 0
A25: - Tiêu chuẩn 3: Trình độ tin học | B25: =SUM(B26:B27) -> 4 | C25: =SUM(C26:C27) -> 4 | D25: 2 | E25: 0.5 | F25: Đạt | G25: 2 | H25: 0.5 | I25: Đạt
A26: + Có trình độ tin học đạt Chuẩn kỹ năng sử dụng công nghệ thông tin cơ bản theo quy định tại Thông tư số 03/2014/TT-BTTTT ngày 11/3/2014 của Bộ Thông tin và Truyền thông quy định Chuẩn kỹ năng sử dụng công nghệ thông tin hoặc tương đương trở lên. | B26: 2 | C26: 2 | D26: 2 | E26: 1 | F26: Chứng chỉ A Tin học Ứng dụng Trường Cao đẳng Bán công Công nghệ và Quản trị Doanh nghiệp | G26: 2 | H26: 1 | I26: =F26 -> Chứng chỉ A Tin học Ứng dụng Trường Cao đẳng Bán công Công nghệ và Quản trị Doanh nghiệp
A27: + Sử dụng thành thạo phần mềm dạy học chuyên ngành để thiết kế bài giảng, tài liệu giảng dạy. | B27: 2 | C27: 2 | D27: 0 | E27: 0 | G27: 0 | H27: 0
A28: Tiêu chí 2 về Năng lực sư phạm | B28: =SUM(B29,B32,B39,B44,B47,B50,B53,B58,B61) -> 52 | C28: =SUM(C29,C32,C39,C44,C47,C50,C53,C58,C61) -> 52 | D28: 50 | E28: 0.96153846 | F28: Đạt | G28: 42 | H28: 0.80769231 | I28: Đạt
A29: - Tiêu chuẩn 1 về Trình độ nghiệp vụ sư phạm và thời gian tham gia giảng dạy | B29: =SUM(B30:B31) -> 4 | C29: =SUM(C30:C31) -> 4 | D29: 4 | E29: 1 | F29: Đạt | G29: 4 | H29: 1 | I29: Đạt
A30: + Có chứng chỉ sư phạm dạy nghề dạy trình độ trung cấp nghề, cao đẳng nghề hoặc chứng chỉ bồi dưỡng nghiệp vụ sư phạm cho giảng viên đại học, cao đẳng hoặc bằng tốt nghiệp đại học chuyên ngành sư phạm hoặc chứng chỉ nghiệp vụ sư phạm dạy trình độ cao đẳng hoặc tương đương. | B30: 2 | C30: 2 | D30: 2 | E30: 1 | G30: 2 | H30: 1
A31: + Có thời gian tham gia giảng dạy ít nhất 12 tháng. | B31: 2 | C31: 2 | D31: 2 | E31: 1 | G31: 2 | H31: 1
A32: - Tiêu chuẩn 2: Chuẩn bị hoạt động giảng dạy | B32: =SUM(B33:B38) -> 12 | C32: =SUM(C33:C38) -> 12 | D32: 12 | E32: 1 | F32: Đạt | G32: 6 | H32: 0.5 | I32: Đạt
A33: + Lập được kế hoạch giảng dạy môn học, mô-đun được phân công trên cơ sở chương trình, kế hoạch đào tạo của cả khóa học. | B33: 2 | C33: 2 | D33: 2 | E33: 1 | F33: Lịch giảng dạy | G33: 2 | H33: 1 | I33: Lịch giảng dạy
A34: + Soạn giáo án theo quy định, thể hiện được các hoạt động dạy và học. | B34: 2 | C34: 2 | D34: 2 | E34: 1 | F34: Giáo án | G34: 2 | H34: 1 | I34: Giáo án
A35: + Lựa chọn phương pháp dạy học phù hợp cho các bài học của chương trình môn học, mô-đun được phân công giảng dạy. | B35: 2 | C35: 2 | D35: 2 | E35: 1 | G35: 2 | H35: 1
A36: + Chuẩn bị đầy đủ các phương tiện dạy học, thiết bị, nguyên, nhiên, vật liệu thực hành cần thiết | B36: 2 | C36: 2 | D36: 2 | E36: 1 | G36: 0 | H36: 0
A37: + Tự làm các thiết bị dạy học đơn giản để phục vụ giảng dạy | B37: 2 | C37: 2 | D37: 2 | E37: 1 | G37: 0 | H37: 0
A38: + Chủ trì hoặc tham gia thiết kế và bố trí trang thiết bị dạy học của phòng học chuyên môn phù hợp với chương trình của ngành, nghề được phân công giảng dạy. | B38: 2 | C38: 2 | D38: 2 | E38: 1 | G38: 0 | H38: 0
A39: - Tiêu chuẩn 3: Thực hiện hoạt động giảng dạy | B39: 8 | C39: =SUM(C40:C43) -> 8 | D39: 8 | E39: 1 | F39: Đạt | G39: 6 | H39: 0.75 | I39: Đạt
A40: + Tổ chức dạy học phù hợp với ngành, nghề đào tạo và với từng đối tượng người học; thực hiện đầy đủ kế hoạch giảng dạy, đúng chương trình, nội dung. | B40: 2 | C40: 2 | D40: 2 | E40: 1 | G40: 2 | H40: 1
A41: + Thực hiện các giờ dạy lý thuyết, thực hành, tích hợp theo quy định | B41: 2 | C41: 2 | D41: 2 | E41: 1 | G41: 2 | H41: 1
A42: + Vận dụng, kết hợp các phương pháp dạy học để phát huy tính tích cực, sáng tạo, phát triển năng lực tự học của người học | B42: 2 | C42: 2 | D42: 2 | E42: 1 | G42: 2 | H42: 1
A43: + Sử dụng thành thạo các phương tiện, thiết bị dạy học để nâng cao hiệu quả giảng dạy, đảm bảo chất lượng giáo dục nghề nghiệp | B43: 2 | C43: 2 | D43: 2 | E43: 1 | G43: 0 | H43: 0
...

Sheet mau_00
A1: TRƯỜNG CAO ĐẲNG LÝ TỰ TRỌNG TP. HỒ CHÍ MINH | G1: CỘNG HÒA XÃ HỘI CHỦ NGHĨA VIỆT NAM
A2: KHOA KHOA HỌC CƠ BẢN | G2: Độc lập - Tự do - Hạnh phúc
A5: PHIẾU ĐÁNH GIÁ, XẾP LOẠI CHUYÊN MÔN, NGHIỆP VỤ CỦA NHÀ GIÁO
A6: Năm học: 2017-2018
A7: Họ và tên: | D7: ='ĐÁNH GIÁ GV_mau_01'!D7 -> LÊ THÁI HÙNG
A8: Khoa, tổ bộ môn: | D8: ='ĐÁNH GIÁ GV_mau_01'!D8 -> Khoa Khoa học Cơ bản, Tổ Giáo dục Thể chất
A9: Cấp trình độ giảng dạy: | D9: ='ĐÁNH GIÁ GV_mau_01'!D9 -> Cao đẳng
A10: Nhiệm vụ được phân công giảng dạy (Lý thuyết, thực hành, tích hợp): | G10: ='ĐÁNH GIÁ GV_mau_01'!G10 -> Thực hành
A12: Các tiêu chí và tiêu chuẩn | B12: Điểm tối đa | C12: Điểm tối đa | D12: Nhà giáo tự đánh giá xếp loại
D13: Điểm đánh giá đạt được | E13: Tỷ lệ % của điểm đánh giá đạt được so với điểm đánh giá tối đa của mỗi tiêu chuẩn | F13: Các minh chứng | G13: Điểm đánh giá đạt được | H13: Tỷ lệ % của điểm đánh giá đạt được so với điểm đánh giá tối đa của mỗi tiêu chuẩn | I13: Các minh chứng
A14: ='ĐÁNH GIÁ GV_mau_01'!A14 -> Tiêu chí 1 về Năng lực chuyên môn | B14: ='ĐÁNH GIÁ GV_mau_01'!B14 -> 20 | C14: =SUM(C15,C16,C17) -> #REF! | D14: ='ĐÁNH GIÁ GV_mau_01'!D14 -> 16 | E14: ='ĐÁNH GIÁ GV_mau_01'!E14 -> 0.8 | F14: ='ĐÁNH GIÁ GV_mau_01'!F14 -> Đạt | G14: ='ĐÁNH GIÁ GV_mau_01'!G14 -> 12 | H14: ='ĐÁNH GIÁ GV_mau_01'!H14 -> 0.6 | I14: ='ĐÁNH GIÁ GV_mau_01'!I14 -> Đạt
A15: ='ĐÁNH GIÁ GV_mau_01'!A15 -> - Tiêu chuẩn 1: Trình độ chuyên môn | B15: ='ĐÁNH GIÁ GV_mau_01'!B15 -> 12 | C15: =SUM(#REF!) -> #REF! | D15: ='ĐÁNH GIÁ GV_mau_01'!D15 -> 12 | E15: ='ĐÁNH GIÁ GV_mau_01'!E15 -> 1 | F15: ='ĐÁNH GIÁ GV_mau_01'!F15 -> Đạt | G15: ='ĐÁNH GIÁ GV_mau_01'!G15 -> 10 | H15: ='ĐÁNH GIÁ GV_mau_01'!H15 -> 0.83333333 | I15: ='ĐÁNH GIÁ GV_mau_01'!I15 -> Đạt
A16: ='ĐÁNH GIÁ GV_mau_01'!A22 -> - Tiêu chuẩn 2: Trình độ ngoại ngữ | B16: ='ĐÁNH GIÁ GV_mau_01'!B22 -> 4 | C16: =SUM(#REF!) -> #REF! | D16: ='ĐÁNH GIÁ GV_mau_01'!D22 -> 2 | E16: ='ĐÁNH GIÁ GV_mau_01'!E22 -> 0.5 | F16: ='ĐÁNH GIÁ GV_mau_01'!F22 -> Đạt | G16: ='ĐÁNH GIÁ GV_mau_01'!G22 -> 0 | H16: ='ĐÁNH GIÁ GV_mau_01'!H22 -> 0 | I16: ='ĐÁNH GIÁ GV_mau_01'!I22 -> Không đạt
A17: ='ĐÁNH GIÁ GV_mau_01'!A25 -> - Tiêu chuẩn 3: Trình độ tin học | B17: ='ĐÁNH GIÁ GV_mau_01'!B25 -> 4 | C17: =SUM(#REF!) -> #REF! | D17: ='ĐÁNH GIÁ GV_mau_01'!D25 -> 2 | E17: ='ĐÁNH GIÁ GV_mau_01'!E25 -> 0.5 | F17: ='ĐÁNH GIÁ GV_mau_01'!F25 -> Đạt | G17: ='ĐÁNH GIÁ GV_mau_01'!G25 -> 2 | H17: ='ĐÁNH GIÁ GV_mau_01'!H25 -> 0.5 | I17: ='ĐÁNH GIÁ GV_mau_01'!I25 -> Đạt
A18: ='ĐÁNH GIÁ GV_mau_01'!A28 -> Tiêu chí 2 về Năng lực sư phạm | B18: ='ĐÁNH GIÁ GV_mau_01'!B28 -> 52 | C18: =SUM(C19,C20,C21,C22,C23,C24,C25,C26,C27) -> #REF! | D18: ='ĐÁNH GIÁ GV_mau_01'!D28 -> 50 | E18: ='ĐÁNH GIÁ GV_mau_01'!E28 -> 0.96153846 | F18: ='ĐÁNH GIÁ GV_mau_01'!F28 -> Đạt | G18: ='ĐÁNH GIÁ GV_mau_01'!G28 -> 42 | H18: ='ĐÁNH GIÁ GV_mau_01'!H28 -> 0.80769231 | I18: ='ĐÁNH GIÁ GV_mau_01'!I28 -> Đạt
A19: ='ĐÁNH GIÁ GV_mau_01'!A29 -> - Tiêu chuẩn 1 về Trình độ nghiệp vụ sư phạm và thời gian tham gia giảng dạy | B19: ='ĐÁNH GIÁ GV_mau_01'!B29 -> 4 | C19: =SUM(#REF!) -> #REF! | D19: ='ĐÁNH GIÁ GV_mau_01'!D29 -> 4 | E19: ='ĐÁNH GIÁ GV_mau_01'!E29 -> 1 | F19: ='ĐÁNH GIÁ GV_mau_01'!F29 -> Đạt | G19: ='ĐÁNH GIÁ GV_mau_01'!G29 -> 4 | H19: ='ĐÁNH GIÁ GV_mau_01'!H29 -> 1 | I19: ='ĐÁNH GIÁ GV_mau_01'!I29 -> Đạt
A20: ='ĐÁNH GIÁ GV_mau_01'!A32 -> - Tiêu chuẩn 2: Chuẩn bị hoạt động giảng dạy | B20: ='ĐÁNH GIÁ GV_mau_01'!B32 -> 12 | C20: =SUM(#REF!) -> #REF! | D20: ='ĐÁNH GIÁ GV_mau_01'!D32 -> 12 | E20: ='ĐÁNH GIÁ GV_mau_01'!E32 -> 1 | F20: ='ĐÁNH GIÁ GV_mau_01'!F32 -> Đạt | G20: ='ĐÁNH GIÁ GV_mau_01'!G32 -> 6 | H20: ='ĐÁNH GIÁ GV_mau_01'!H32 -> 0.5 | I20: ='ĐÁNH GIÁ GV_mau_01'!I32 -> Đạt
A21: ='ĐÁNH GIÁ GV_mau_01'!A39 -> - Tiêu chuẩn 3: Thực hiện hoạt động giảng dạy | B21: ='ĐÁNH GIÁ GV_mau_01'!B39 -> 8 | C21: =SUM(#REF!) -> #REF! | D21: ='ĐÁNH GIÁ GV_mau_01'!D39 -> 8 | E21: ='ĐÁNH GIÁ GV_mau_01'!E39 -> 1 | F21: ='ĐÁNH GIÁ GV_mau_01'!F39 -> Đạt | G21: ='ĐÁNH GIÁ GV_mau_01'!G39 -> 6 | H21: ='ĐÁNH GIÁ GV_mau_01'!H39 -> 0.75 | I21: ='ĐÁNH GIÁ GV_mau_01'!I39 -> Đạt
A22: ='ĐÁNH GIÁ GV_mau_01'!A44 -> - Tiêu chuẩn 4: Kiểm tra, đánh giá kết quả học tập của người học | B22: ='ĐÁNH GIÁ GV_mau_01'!B44 -> 4 | C22: =SUM(#REF!) -> #REF! | D22: ='ĐÁNH GIÁ GV_mau_01'!D44 -> 4 | E22: ='ĐÁNH GIÁ GV_mau_01'!E44 -> 1 | F22: ='ĐÁNH GIÁ GV_mau_01'!F44 -> Đạt | G22: ='ĐÁNH GIÁ GV_mau_01'!G44 -> 4 | H22: ='ĐÁNH GIÁ GV_mau_01'!H44 -> 1 | I22: ='ĐÁNH GIÁ GV_mau_01'!I44 -> Đạt
A23: ='ĐÁNH GIÁ GV_mau_01'!A47 -> - Tiêu chuẩn 5: Quản lý hồ sơ dạy học | B23: ='ĐÁNH GIÁ GV_mau_01'!B47 -> 4 | C23: =SUM(#REF!) -> #REF! | D23: ='ĐÁNH GIÁ GV_mau_01'!D47 -> 4 | E23: ='ĐÁNH GIÁ GV_mau_01'!E47 -> 1 | F23: ='ĐÁNH GIÁ GV_mau_01'!F47 -> Đạt | G23: ='ĐÁNH GIÁ GV_mau_01'!G47 -> 4 | H23: ='ĐÁNH GIÁ GV_mau_01'!H47 -> 1 | I23: ='ĐÁNH GIÁ GV_mau_01'!I47 -> Đạt
A24: ='ĐÁNH GIÁ GV_mau_01'!A50 -> - Tiêu chuẩn 6: Xây dựng chương trình, biên soạn giáo trình, tài liệu giảng dạy | B24: ='ĐÁNH GIÁ GV_mau_01'!B50 -> 4 | C24: =SUM(#REF!) -> #REF! | D24: ='ĐÁNH GIÁ GV_mau_01'!D50 -> 2 | E24: ='ĐÁNH GIÁ GV_mau_01'!E50 -> 0.5 | F24: ='ĐÁNH GIÁ GV_mau_01'!F50 -> Đạt | G24: ='ĐÁNH GIÁ GV_mau_01'!G50 -> 2 | H24: ='ĐÁNH GIÁ GV_mau_01'!H50 -> 0.5 | I24: ='ĐÁNH GIÁ GV_mau_01'!I50 -> Đạt
A25: ='ĐÁNH GIÁ GV_mau_01'!A53 -> - Tiêu chuẩn 7 về Xây dựng kế hoạch, thực hiện các hoạt động giáo dục | B25: ='ĐÁNH GIÁ GV_mau_01'!B53 -> 8 | C25: =SUM(#REF!) -> #REF! | D25: ='ĐÁNH GIÁ GV_mau_01'!D53 -> 8 | E25: ='ĐÁNH GIÁ GV_mau_01'!E53 -> 1 | F25: ='ĐÁNH GIÁ GV_mau_01'!F53 -> Đạt | G25: ='ĐÁNH GIÁ GV_mau_01'!G53 -> 8 | H25: ='ĐÁNH GIÁ GV_mau_01'!H53 -> 1 | I25: ='ĐÁNH GIÁ GV_mau_01'!I53 -> Đạt
A26: ='ĐÁNH GIÁ GV_mau_01'!A58 -> - Tiêu chuẩn 8: Quản lý người học, xây dựng môi trường giáo dục, học tập | B26: ='ĐÁNH GIÁ GV_mau_01'!B58 -> 4 | C26: =SUM(#REF!) -> #REF! | D26: ='ĐÁNH GIÁ GV_mau_01'!D58 -> 4 | E26: ='ĐÁNH GIÁ GV_mau_01'!E58 -> 1 | F26: ='ĐÁNH GIÁ GV_mau_01'!F58 -> Đạt | G26: ='ĐÁNH GIÁ GV_mau_01'!G58 -> 4 | H26: ='ĐÁNH GIÁ GV_mau_01'!H58 -> 1 | I26: ='ĐÁNH GIÁ GV_mau_01'!I58 -> Đạt
A27: ='ĐÁNH GIÁ GV_mau_01'!A61 -> - Tiêu chuẩn 9: Hoạt động xã hội | B27: ='ĐÁNH GIÁ GV_mau_01'!B61 -> 4 | C27: =SUM(#REF!) -> #REF! | D27: ='ĐÁNH GIÁ GV_mau_01'!D61 -> 4 | E27: ='ĐÁNH GIÁ GV_mau_01'!E61 -> 1 | F27: ='ĐÁNH GIÁ GV_mau_01'!F61 -> Đạt | G27: ='ĐÁNH GIÁ GV_mau_01'!G61 -> 4 | H27: ='ĐÁNH GIÁ GV_mau_01'!H61 -> 1 | I27: ='ĐÁNH GIÁ GV_mau_01'!I61 -> Đạt
A28: ='ĐÁNH GIÁ GV_mau_01'!A64 -> Tiêu chí 3 về Năng lực phát triển nghề nghiệp, nghiên cứu khoa học | B28: ='ĐÁNH GIÁ GV_mau_01'!B64 -> 16 | C28: =SUM(C29,C30,C31) -> #REF! | D28: ='ĐÁNH GIÁ GV_mau_01'!D64 -> 10 | E28: ='ĐÁNH GIÁ GV_mau_01'!E64 -> 0.625 | F28: ='ĐÁNH GIÁ GV_mau_01'!F64 -> Đạt | G28: ='ĐÁNH GIÁ GV_mau_01'!G64 -> 8 | H28: ='ĐÁNH GIÁ GV_mau_01'!H64 -> 0.5 | I28: ='ĐÁNH GIÁ GV_mau_01'!I64 -> Đạt
A29: ='ĐÁNH GIÁ GV_mau_01'!A65 -> - Tiêu chuẩn 1: Học tập, bồi dưỡng nâng cao | B29: ='ĐÁNH GIÁ GV_mau_01'!B65 -> 8 | C29: =SUM(#REF!) -> #REF! | D29: ='ĐÁNH GIÁ GV_mau_01'!D65 -> 8 | E29: ='ĐÁNH GIÁ GV_mau_01'!E65 -> 1 | F29: ='ĐÁNH GIÁ GV_mau_01'!F65 -> Đạt | G29: ='ĐÁNH GIÁ GV_mau_01'!G65 -> 4 | H29: ='ĐÁNH GIÁ GV_mau_01'!H65 -> 0.5 | I29: ='ĐÁNH GIÁ GV_mau_01'!I65 -> Đạt
A30: ='ĐÁNH GIÁ GV_mau_01'!A70 -> - Tiêu chuẩn 2: Phát triển năng lực nghề nghiệp cho người học | B30: ='ĐÁNH GIÁ GV_mau_01'!B70 -> 4 | C30: =SUM(#REF!) -> #REF! | D30: ='ĐÁNH GIÁ GV_mau_01'!D70 -> 2 | E30: ='ĐÁNH GIÁ GV_mau_01'!E70 -> 0.5 | F30: ='ĐÁNH GIÁ GV_mau_01'!F70 -> Đạt | G30: ='ĐÁNH GIÁ GV_mau_01'!G70 -> 2 | H30: ='ĐÁNH GIÁ GV_mau_01'!H70 -> 0.5 | I30: ='ĐÁNH GIÁ GV_mau_01'!I70 -> Đạt
A31: ='ĐÁNH GIÁ GV_mau_01'!A73 -> - Tiêu chuẩn 3: Nghiên cứu khoa học | B31: ='ĐÁNH GIÁ GV_mau_01'!B73 -> 4 | C31: =SUM(#REF!) -> #REF! | D31: ='ĐÁNH GIÁ GV_mau_01'!D73 -> 0 | E31: ='ĐÁNH GIÁ GV_mau_01'!E73 -> 0 | F31: ='ĐÁNH GIÁ GV_mau_01'!F73 -> Không đạt | G31: ='ĐÁNH GIÁ GV_mau_01'!G73 -> 2 | H31: ='ĐÁNH GIÁ GV_mau_01'!H73 -> 0.5 | I31: ='ĐÁNH GIÁ GV_mau_01'!I73 -> Đạt
A32: Tổng số điểm đánh giá | B32: =SUM(B14,B18,B28) -> 88 | C32: =SUM(C14,C18,C28) -> #REF! | D32: =SUM(D14,D18,D28) -> 76 | E32: =(D32/B32) -> 0.86363636 | G32: =SUM(G14,G18,G28) -> 62 | H32: =(G32/B32) -> 0.70454545
A33: Điểm quy đổi | B33: 100 | C33: =(C32*B33)/B32 -> #REF! | D33: =(D32*B33)/B32 -> 86.363636 | E33: =(D33/B33) -> 0.86363636 | G33: =(G32*B33)/B32 -> 70.454545 | H33: =(G33/B33) -> 0.70454545
A34: Xếp loại | D34: =IF(AND(E15<0.5),"Không đạt",IF(AND(E16<0.5),"Không đạt",IF(AND(E17<0.5),"Không đạt",IF(AND(E19<0.5),"Không đạt",IF(AND(E20<0.5),"Không đạt",IF(AND(E21<0.5),"Không đạt",IF(AND(E22<0.5),"Không đạt",IF(AND(E23<0.5),"Không đạt",IF(AND(E24<0.5),"Không đạt",IF(AND(E25<0.5),"Không đạt",IF(AND(E26<0.5),"Không đạt",IF(AND(E27<0.5),"Không đạt",IF(AND(E29<0.5),"Không đạt",IF(AND(E30<0.5),"Không đạt",IF(AND(E31<0.5),"Không đạt",IF(AND(D33>=80),"A",IF(AND(D33>=65,D33<79),"B",IF(AND(D33>=50,D33<64),"C","Không đạt")))))))))))))))))) -> Không đạt | F34: =IF(E15<0.5,"Có Tiêu chuẩn dưới 50%",IF(AND(E16<0.5),"Có Tiêu chuẩn dưới 50%",IF(AND(E17<0.5),"Có Tiêu chuẩn dưới 50%",IF(AND(E19<0.5),"Có Tiêu chuẩn dưới 50%",IF(AND(E20<0.5),"Có Tiêu chuẩn dưới 50%",IF(AND(E21<0.5),"Có Tiêu chuẩn dưới 50%",IF(AND(E22<0.5),"Có Tiêu chuẩn dưới 50%",IF(AND(E23<0.5),"Có Tiêu chuẩn dưới 50%",IF(AND(E24<0.5),"Có Tiêu chuẩn dưới 50%",IF(AND(E25<0.5),"Có Tiêu chuẩn dưới 50%",IF(AND(E26<0.5),"Có Tiêu chuẩn dưới 50%",IF(AND(E27<0.5),"Có Tiêu chuẩn dưới 50%",IF(AND(E29<0.5),"Có Tiêu chuẩn dưới 50%",IF(AND(E30<0.5),"Có Tiêu chuẩn dưới 50%",IF(AND(E31<0.5),"Có Tiêu chuẩn dưới 50%","Tất cả các Tiêu chuẩn đạt trên 50%"))))))))))))))) -> Có Tiêu chuẩn dưới 50% | G34: =IF(AND(H15<0.5),"Không đạt",IF(AND(H16<0.5),"Không đạt",IF(AND(H17<0.5),"Không đạt",IF(AND(H19<0.5),"Không đạt",IF(AND(H20<0.5),"Không đạt",IF(AND(H21<0.5),"Không đạt",IF(AND(H22<0.5),"Không đạt",IF(AND(H23<0.5),"Không đạt",IF(AND(H24<0.5),"Không đạt",IF(AND(H25<0.5),"Không đạt",IF(AND(H26<0.5),"Không đạt",IF(AND(H27<0.5),"Không đạt",IF(AND(H29<0.5),"Không đạt",IF(AND(H30<0.5),"Không đạt",IF(AND(H31<0.5),"Không đạt",IF(AND(G33>=80),"A",IF(AND(G33>=65,G33<79),"B",IF(AND(G33>=50,G33<64),"C","Không đạt")))))))))))))))))) -> Không đạt | I34: =IF(H15<0.5,"Có Tiêu chuẩn dưới 50%",IF(AND(H16<0.5),"Có Tiêu chuẩn dưới 50%",IF(AND(H17<0.5),"Có Tiêu chuẩn dưới 50%",IF(AND(H19<0.5),"Có Tiêu chuẩn dưới 50%",IF(AND(H20<0.5),"Có Tiêu chuẩn dưới 50%",IF(AND(H21<0.5),"Có Tiêu chuẩn dưới 50%",IF(AND(H22<0.5),"Có Tiêu chuẩn dưới 50%",IF(AND(H23<0.5),"Có Tiêu chuẩn dưới 50%",IF(AND(H24<0.5),"Có Tiêu chuẩn dưới 50%",IF(AND(H25<0.5),"Có Tiêu chuẩn dưới 50%",IF(AND(H26<0.5),"Có Tiêu chuẩn dưới 50%",IF(AND(H27<0.5),"Có Tiêu chuẩn dưới 50%",IF(AND(H29<0.5),"Có Tiêu chuẩn dưới 50%",IF(AND(H30<0.5),"Có Tiêu chuẩn dưới 50%",IF(AND(H31<0.5),"Có Tiêu chuẩn dưới 50%","Tất cả các Tiêu chuẩn đạt trên 50%"))))))))))))))) -> Có Tiêu chuẩn dưới 50%
A36: TP. HCM, ngày…..tháng…..năm 2018 Nhà giáo tự đánh giá (ký và ghi rõ họ, tên) | G36: TP.HCM, ngày…… tháng …… năm 2018 Trưởng khoa (ký và ghi rõ họ, tên)
A40: =D7 -> LÊ THÁI HÙNG

Sheet Sheet3
